BEGIN:VCALENDAR
VERSION:2.0
BEGIN:VEVENT
URL:https://www.networkinaction.com/index.php/events/viewevent/4743-june-monthly-meeting-visitor-event-3-30-to-5-00?groupid=14 
DTSTART:20210609T153000
DTEND:20210609T170000
SUMMARY:June Monthly Meeting/Visitor Event 3:30 to 5:00
DESCRIPTION:<p>Please join us at our  June Monthly Meeting and Visitor Event for University of Houston Alumni Business owners, Entrepreneurs and Decision makers. </p><p>Here is the link if you would like to bring a guest.  Looking for new members for all groups.  Please RSVP https://www.cougarconnection.net/event-details/cougar-connection-memorial-monthly-meeting-4</p>
LOCATION:Warehouse 72 7620 Katy Freeway Suite 305, Houston 77024
END:VEVENT
END:VCALENDAR