BEGIN:VCALENDAR
VERSION:2.0
BEGIN:VEVENT
URL:https://www.networkinaction.com/index.php/events/viewevent/4738-may-monthly-meeting?groupid=154 
DTSTART:20210512T150000
DTEND:20210512T163000
SUMMARY:May monthly meeting
DESCRIPTION:
LOCATION:House of Oliver, 3992 Douglas Blvd
END:VEVENT
END:VCALENDAR