BEGIN:VCALENDAR
VERSION:2.0
BEGIN:VEVENT
URL:https://www.networkinaction.com/index.php/events/viewevent/4731-nia-st-petersburg-monthly-meeting-in-person-at-carrabba-s-on-tyrone-blvd?groupid=49 
DTSTART:20210513T160000
DTEND:20210513T173000
SUMMARY:NIA - St Petersburg Monthly Meeting (In Person at Carrabba's on Tyrone Blvd)
DESCRIPTION:<p>Please join us for this important meeting!</p>
LOCATION:3530 Tyrone Blvd N, St. Petersburg, FL 33710
END:VEVENT
END:VCALENDAR