BEGIN:VCALENDAR
VERSION:2.0
BEGIN:VEVENT
URL:https://www.networkinaction.com/index.php/events/viewevent/4717-nia-georgetown-monthly-business-meeting?groupid=50 
DTSTART:20211012T150000
DTEND:20211012T163000
SUMMARY:NIA Georgetown Monthly Business Meeting
RRULE:FREQ=MONTHLY;UNTIL=20211231T000000
DESCRIPTION:<p>It's time to join your fellow NIA members for some networking!  Bring your appetite and business cards and get ready to visit old friends while meeting new ones.  Guests always welcome!  </p>Looking forward to seeing you there!
LOCATION:Gumbo's North, 701 Main St., Georgetown, TX
END:VEVENT
END:VCALENDAR