BEGIN:VCALENDAR
VERSION:2.0
BEGIN:VEVENT
URL:https://www.networkinaction.com/index.php/events/viewevent/4714-nia-georgetown-monthly-business-meeting?groupid=50 
DTSTART:20210713T150000
DTEND:20210713T163000
SUMMARY:NIA Georgetown Monthly Business Meeting
RRULE:FREQ=MONTHLY;UNTIL=20211231T000000
DESCRIPTION:<p>It's time to join your fellow NIA members for some networking!  Bring your appetite and business cards and get ready to visit old friends while meeting new ones.  Guests always welcome!  </p><p>Looking forward to seeing you there!</p><p><strong><u>Join Zoom Meeting
 Details:</u></strong></p><p>https://zoom.us/j/9460662409?pwd=dkVxRFR1VUw5Z3M4akNMY2ZWcWJzZz09</p>
LOCATION:Zoom Meeting! See details in the meeting description. 
END:VEVENT
END:VCALENDAR