BEGIN:VCALENDAR
VERSION:2.0
BEGIN:VEVENT
URL:https://www.networkinaction.com/index.php/events/viewevent/4709-may-monthly-meeting?groupid=147 
DTSTART:20210513T150000
DTEND:20210513T163000
SUMMARY:May Monthly Meeting
DESCRIPTION:<p>Join Veterans Business Force's May Monthly meeting to network with our terrific elite veteran business owners.  We have a great meeting planned and you want to make sure you're there!  This is networking elevated!  See you there!</p>
LOCATION:Lupe Tortilla, 9313 Katy Freeway, 77024
END:VEVENT
END:VCALENDAR