BEGIN:VCALENDAR
VERSION:2.0
BEGIN:VEVENT
URL:https://www.networkinaction.com/index.php/events/viewevent/4708-may-monthly-meeting?groupid=140 
DTSTART:20210512T150000
DTEND:20210512T163000
SUMMARY:May Monthly Meeting
DESCRIPTION:<p>Join Sugar Land Business Force's May Monthly meeting to network with our terrific elite business owners.  We have a great meeting planned and you want to make sure you're there!  This is networking elevated!  See you there!</p>
LOCATION:Churrascos Sugar Land, 1520 Lake Pointe Pkwy, Ste 500, Sugar Land, TX 77478
END:VEVENT
END:VCALENDAR