BEGIN:VCALENDAR
VERSION:2.0
BEGIN:VEVENT
URL:https://www.networkinaction.com/index.php/events/viewevent/4707-may-monthly-meeting?groupid=77 
DTSTART:20210511T150000
DTEND:20210511T163000
SUMMARY:May Monthly Meeting
DESCRIPTION:Join Westchase Business Force's May Monthly meeting to network with our terrific elite business owners.  We have a great meeting planned and you want to make sure you're there!  This is networking elevated!  See you there!
LOCATION:Lupe Tortilla, 9313 Katy Freeway, 77024
END:VEVENT
END:VCALENDAR