BEGIN:VCALENDAR
VERSION:2.0
BEGIN:VEVENT
URL:https://www.networkinaction.com/index.php/events/viewevent/4705-regional-networking-event?groupid=158 
DTSTART:20210519T000000
DTEND:20210519T001500
SUMMARY:Regional Networking Event
DESCRIPTION:<p>I am hosting a Networking Event for everyone in the region to meet up. We will be holding these at different locations throughout the area on a quarterly basis. All NIA members will get one drink ticket and we will provide appetizers for members. Feel free to bring a guest as well. Stop by when you can or come from start to finish!</p>
LOCATION:Sail to Trail Inside the Higgins Armory Museum 100 Barber Avenue Worcester, MA 01606
END:VEVENT
END:VCALENDAR