BEGIN:VCALENDAR
VERSION:2.0
BEGIN:VEVENT
URL:https://www.networkinaction.com/index.php/events/viewevent/4684-launch-and-learn-in-league-city?groupid=142 
DTSTART:20210513T153000
DTEND:20210513T170000
SUMMARY:Launch and Learn in League City
RRULE:FREQ=MONTHLY;UNTIL=20220513T000000
DESCRIPTION:<p>Steve Bell is looking forward to this first meeting with Critical Mass members, possible new members and guests.  NIA is the unique networking model that builds a helpful and friendly group that brings business to you while guaranteeing a return on an investment of your marketing dollars.  </p><p>Please set this event in your calendar for the second Thursday in May and ongoing.  After an hour of fun activities and professionally-lead learning, enjoy a complimentary Happy Hour beverage and appetizer.  Stay beyond the ninety minute hard stop to continue networking and building relationships.</p><br /><br />
LOCATION:Red River Cantina, 1911 E Main St, League City, TX 77573
END:VEVENT
END:VCALENDAR