BEGIN:VCALENDAR
VERSION:2.0
BEGIN:VEVENT
URL:https://www.networkinaction.com/index.php/events/viewevent/4675-top-golf-social?groupid=163 
DTSTART:20210528T160000
DTEND:20210528T180000
SUMMARY:Top Golf Social
DESCRIPTION:***You must register to attend*** 

https://www.eventbrite.com/e/top-golf-social-tickets-152774313083

Come hang out with us at Top Golf for some booze, food, and fun. Please be sure to register to attend as we're going to need to tell Top Golf how many people we expect to go. Use the link above to register. 

Feel encouraged to bring your +1 as well.
LOCATION:Top Golf, 2700 Esperanza Crossing, Austin, TX 78758
END:VEVENT
END:VCALENDAR