BEGIN:VCALENDAR
VERSION:2.0
BEGIN:VEVENT
URL:https://www.networkinaction.com/index.php/events/viewevent/4663-nia-women-s-social?groupid=144 
DTSTART:20210525T160000
DTEND:20210525T180000
SUMMARY:NIA Women's Social
DESCRIPTION:This event is only for the ladies of NIA! 

Anna, Emily, & Mandy are starting up a regular Women of NIA social, and the first event is a happy hour at Culinary Dropout!
LOCATION:Culinary Dropout, 11721 Rock Rose Ave Ste 100, Austin, TX 78758
END:VEVENT
END:VCALENDAR