BEGIN:VCALENDAR
VERSION:2.0
BEGIN:VEVENT
URL:https://www.networkinaction.com/index.php/events/viewevent/4655-launch-and-learn?groupid=170 
DTSTART:20210513T150000
DTEND:20210513T163000
SUMMARY:Launch and Learn
DESCRIPTION:<p>We are launching the NIA AF Area and would love for you to join! You will find out how you can increase your networking connections and make them work for you.
</p>
<p>Come join us for drinks, appetizers, networking, and a great opportunity!</p>
LOCATION:Bona Vita, 1820 W Traverse Pkwy UNIT C, Lehi, UT 84043
END:VEVENT
END:VCALENDAR