BEGIN:VCALENDAR
VERSION:2.0
BEGIN:VEVENT
URL:https://www.networkinaction.com/index.php/events/viewevent/4645-network-with-the-nation-4-30-pm-to-6-00-pm-et-zoom?groupid=29 
DTSTART:20211215T163000
DTEND:20211228T180000
SUMMARY:Network With The Nation | 4:30 pm to 6:00 pm ET - Zoom
RRULE:FREQ=MONTHLY;UNTIL=20220428T000000
DESCRIPTION:<p>Join us on Zoom at www.ZoomWithNIA.com!</p>
LOCATION:Zoom ID: 857 228 4669
END:VEVENT
END:VCALENDAR