BEGIN:VCALENDAR
VERSION:2.0
BEGIN:VEVENT
URL:https://www.networkinaction.com/index.php/events/viewevent/4639-network-with-the-nation-june-23rd-4-30-pm-to-6-00-pm-et?groupid=29 
DTSTART:20210623T163000
DTEND:20210623T180000
SUMMARY:Network With The Nation | June 23rd 4:30 pm to 6:00 pm ET |
RRULE:FREQ=MONTHLY;UNTIL=20220428T000000
DESCRIPTION:
LOCATION:Zoom ID: 857 228 4669
END:VEVENT
END:VCALENDAR