BEGIN:VCALENDAR
VERSION:2.0
BEGIN:VEVENT
URL:https://www.networkinaction.com/index.php/events/viewevent/4638-network-with-the-nation-4-30-pm-to-6-00-pm-et?groupid=29 
DTSTART:20210526T163000
DTEND:20210528T180000
SUMMARY:Network With The Nation | 4:30 pm to 6:00 pm ET
RRULE:FREQ=MONTHLY;UNTIL=20220428T000000
DESCRIPTION:<p>Join on Zoom
</p><p>https://www.ZoomWithNIA.com
</p><p>Meeting ID: 857 228 4669
</p><p>Join us for the NIA's all-new nationwide networking opportunity. This month-to-month event is available to all NIA members, no matter where you are on the map. Join us for the chance to connect with professionals looking to network outside their locality.</p>
LOCATION:Zoom ID: 857 228 4669
END:VEVENT
END:VCALENDAR