BEGIN:VCALENDAR
VERSION:2.0
BEGIN:VEVENT
URL:https://www.networkinaction.com/index.php/events/viewevent/4634-nia-mixer-at-caddy-s-gulfport?groupid=49 
DTSTART:20210429T160000
DTEND:20210429T173000
SUMMARY:NIA Mixer at Caddy's Gulfport!
DESCRIPTION:<p>Join us at the tiki bar at Caddy's Gulfport.</p>
LOCATION:3128 Beach Blvd S, Gulfport FL
END:VEVENT
END:VCALENDAR