BEGIN:VCALENDAR
VERSION:2.0
BEGIN:VEVENT
URL:https://www.networkinaction.com/index.php/events/viewevent/4603-the-biden-tax-proposal-2021?groupid=144 
DTSTART:20210428T171500
DTEND:20210428T180000
SUMMARY:The Biden Tax Proposal 2021
DESCRIPTION:***Event being held by Richard King from the Westlake group***

Are you concerned that Biden’s tax proposal will effect your retirement or business plan? Wondering if there’s anything you can do now to prevent those tax changes from impacting you? Join us for a brief presentation on these proposed changes!

Guest speaker:
Kevin Douglas, CPA, CFP®
Financial Planner
Equitable Advisors

Please join us:
Wednesday, April 28, 2021
5:15 PM to 6:00 PM

Thursday, April 29, 2021
12:00 PM to 1:00 PM

If interested please email me at Richard.king@equitable.com and I will send a calendar invite.

Thank you!

All the best,
Richard King CRPC® | Financial Consultant
9606 N. Mopac Expy., Suite 950, Austin, TX 78759
m. (832) 290- 0062 | p. (512) 794 - 2300 | f. (512) 795 - 8930
www.equitable.com | Richard.King@equitable.com
LOCATION:Microsoft Teams
END:VEVENT
END:VCALENDAR