BEGIN:VCALENDAR
VERSION:2.0
BEGIN:VEVENT
URL:https://www.networkinaction.com/index.php/events/viewevent/4596-all-business-force-happy-hour?groupid=140 
DTSTART:20210501T160000
DTEND:20210501T180000
SUMMARY:All Business Force Happy Hour
DESCRIPTION:<p>You're invited to our monthly social event/happy hour.  Plan on joining all the members of the NIA Business Force groups for happy hour. The Voodoo Hut is the biggest and most unique venue in Kemah and they offer food, music, yard games, and more.
</p>
<p>This will be a great time to build your relationships and have a great time together! Feel free to bring your spouse or significant other.
</p><p>I look forward to seeing you there!</p>

LOCATION:Voodoo Hut, 511 Bradford Ave, Kemah, TX 77565
END:VEVENT
END:VCALENDAR