BEGIN:VCALENDAR
VERSION:2.0
BEGIN:VEVENT
URL:https://www.networkinaction.com/index.php/events/viewevent/4589-may-nia-meeting-who-are-these-people?groupid=72 
DTSTART:20210512T150000
DTEND:20210512T163000
SUMMARY:May NIA Meeting: Who Are These People?
DESCRIPTION:<p>As much as Zoom networking has done a good job of keeping us together, there's nothing like in-person meetings. Instead of waiting for Grand Lake Kitchen to re-open, we're temporarily moving to a restaurant that can accomodate us. We've got a couple of alternative already, more info to come. </p><p>So we will get reacquainted and get back to the kind of in-person agendas NIA is famous for.</p><p>Yay!</p><p>PS - Zoom option will remain available to those continuing to have Covid-related concerns - everyone else is expected to show up in person.</p><br />
LOCATION:Scott's Seafood, Jack London Square in Oakland
END:VEVENT
END:VCALENDAR