BEGIN:VCALENDAR
VERSION:2.0
BEGIN:VEVENT
URL:https://www.networkinaction.com/index.php/events/viewevent/4581-monthly-meeting-3-00-to-4-30-warehouse-72?groupid=1 
DTSTART:20210513T150000
DTEND:20210513T163000
SUMMARY:Monthly Meeting 3:00 to 4:30 Warehouse 72
DESCRIPTION:Members cannot help you if they don't know you. Be prepared to expose yourself! 
LOCATION:Warehouse 72 7620 Katy Freeway Suite 305  
END:VEVENT
END:VCALENDAR