BEGIN:VCALENDAR
VERSION:2.0
BEGIN:VEVENT
URL:https://www.networkinaction.com/index.php/events/viewevent/4579-launch-and-learn?groupid=170 
DTSTART:20210422T150000
DTEND:20210422T163000
SUMMARY:Launch and Learn
DESCRIPTION:<p>We are launching the NIA AF Area and would love for you to join! You will find out how you can increase your networking connections and make them work for you.
</p><p>Come join us for drinks, appetizers, networking, and a great opportunity!</p>
LOCATION:Oteo, 190 S State St, Lindon UT
END:VEVENT
END:VCALENDAR