BEGIN:VCALENDAR
VERSION:2.0
BEGIN:VEVENT
URL:https://www.networkinaction.com/index.php/events/viewevent/4576-monthly-meeting-may?groupid=139 
DTSTART:20210513T150000
DTEND:20210513T163000
SUMMARY:Monthly Meeting (May)
DESCRIPTION:
LOCATION:www.ZoomWithJoryFisher.com
END:VEVENT
END:VCALENDAR