BEGIN:VCALENDAR
VERSION:2.0
BEGIN:VEVENT
URL:https://www.networkinaction.com/index.php/events/viewevent/4574-what-is-hypnosis?groupid=66 
DTSTART:20210427T180000
DTEND:20210427T190000
SUMMARY:What is Hypnosis?
DESCRIPTION:<p>Join Brenda James and Katrina Keys as we explore the world of hypnosis with Robin Roberts. What the heck is hypnosis? Is it real? How does it work? Why does it work? How would it work for me? All this and more will be exposed on Tuesday, April 27 at 6 pm CDT with Robin Roberts, Certified Consulting Hypnotist in her presentation, "Secrets of Hypnosis Revealed".</p><p>https://www.eventbrite.com/e/the-secrets-of-hypnosis-revealed-tickets-149752581001</p>
LOCATION:Online
END:VEVENT
END:VCALENDAR