BEGIN:VCALENDAR
VERSION:2.0
BEGIN:VEVENT
URL:https://www.networkinaction.com/index.php/events/viewevent/4572-save-the-date-10-30-cst-to11-30-est-8-30-pst-www-zoomwithnia-com?groupid=112 
DTSTART:20210512T103000
DTEND:20210512T113000
SUMMARY:Save The Date 10:30 cst to11:30 est, 8:30 pst  www.zoomwithnia.com
DESCRIPTION:Join us to create stronger bonds with realtors around the nation. New realtors being added monthly!. 
LOCATION:www.zoomwithnia.com 
END:VEVENT
END:VCALENDAR