BEGIN:VCALENDAR
VERSION:2.0
BEGIN:VEVENT
URL:https://www.networkinaction.com/index.php/events/viewevent/4552-christina-s-lunch-social?groupid=119 
DTSTART:20210421T113000
DTEND:20210421T130000
SUMMARY:Christina's Lunch Social
DESCRIPTION:Christina is hosting a lunch social for her groups that all our members are invited to as well.
LOCATION:Cover 3 Round Rock, 2800 N I-35 Frontage Rd #22, Round Rock, TX 78681
END:VEVENT
END:VCALENDAR