BEGIN:VCALENDAR
VERSION:2.0
BEGIN:VEVENT
URL:https://www.networkinaction.com/index.php/events/viewevent/4549-nia-lunch-social-at-cover-3?groupid=53 
DTSTART:20210421T113000
DTEND:20210421T130000
SUMMARY:NIA Lunch Social at Cover 3
DESCRIPTION:<p>Join us at Cover 3 for lunch and networking!  Members from all Austin area chapters are invited.  Hope you can join us!</p>
LOCATION:Cover 3, 2800 N Interstate Highway 35, Unit 200, Round Rock, TX 78681
END:VEVENT
END:VCALENDAR