BEGIN:VCALENDAR
VERSION:2.0
BEGIN:VEVENT
URL:https://www.networkinaction.com/index.php/events/viewevent/4523-austin-wide-speed-networking?groupid=46 
DTSTART:20210505T114500
DTEND:20210505T130000
SUMMARY:Austin-Wide Speed Networking
DESCRIPTION:Are you wanting to get to know as many NIA members as possible? This is the event for you. We invite all Austin area NIA members to join us on Zoom and have quick 5 minute networking sessions so you can meet as many people as possible in an hour.

Join us at www.networkingwithzoom.com
LOCATION:www.networkingwithzoom.com
END:VEVENT
END:VCALENDAR