BEGIN:VCALENDAR
VERSION:2.0
BEGIN:VEVENT
URL:https://www.networkinaction.com/index.php/events/viewevent/4485-social-media-videos?groupid=119 
DTSTART:20210423T090000
DTEND:20210423T140000
SUMMARY:Social Media Videos
DESCRIPTION:Book your spot today!

We're going to be at the Farmers Cepeda Agency again for shooting social media videos. 

Let me know which time slot you'd like between 9-2 to record your 30 minutes of social media videos to use as you see fit.
LOCATION:11615 Angus Rd Ste 120, Austin, TX 78759
END:VEVENT
END:VCALENDAR