BEGIN:VCALENDAR
VERSION:2.0
BEGIN:VEVENT
URL:https://www.networkinaction.com/index.php/events/viewevent/4462-may-monthly-meeting-live?groupid=11 
DTSTART:20210520T153000
DTEND:20210520T170000
SUMMARY:May Monthly Meeting - Live!  
RRULE:FREQ=MONTHLY;UNTIL=20220415T000000
DESCRIPTION:<p>Thursday May 20 we'll convene at 3:30 to 5 PM in a new venue, Ambriza in Boardwalk Towne Lake!  Join us for an exhilarating agenda that will impact your business!  </p><br />
LOCATION:Ambriza in Boardwalk Towne Lake, 9945 Barker-Cypress Rd. Unit 123, Cypress, TX 77433
END:VEVENT
END:VCALENDAR