BEGIN:VCALENDAR
VERSION:2.0
BEGIN:VEVENT
URL:https://www.networkinaction.com/index.php/events/viewevent/4453-nia-monthly-members-meeting-in-person-rsvp-mar-10-2022?groupid=29 
DTSTART:20220310T150000
DTEND:20220310T163000
SUMMARY:NIA Monthly Members Meeting (in person) - RSVP - Mar 10 2022
RRULE:FREQ=MONTHLY;UNTIL=20220408T000000
DESCRIPTION:
LOCATION:9421 Frederick Rd, Ellicott City, MD 21042-3801, United States
END:VEVENT
END:VCALENDAR