BEGIN:VCALENDAR
VERSION:2.0
BEGIN:VEVENT
URL:https://www.networkinaction.com/index.php/events/viewevent/4452-nia-monthly-members-mandatory-meeting?groupid=29 
DTSTART:20220208T150000
DTEND:20220208T163000
SUMMARY:NIA Monthly Members Mandatory Meeting
RRULE:FREQ=MONTHLY;UNTIL=20220408T000000
DESCRIPTION:
LOCATION:Zoom ID: 9018421246
END:VEVENT
END:VCALENDAR