BEGIN:VCALENDAR
VERSION:2.0
BEGIN:VEVENT
URL:https://www.networkinaction.com/index.php/events/viewevent/4451-nia-monthly-members-meeting-rsvp-pls-jan-13-2022?groupid=29 
DTSTART:20220113T150000
DTEND:20220113T163000
SUMMARY:NIA Monthly Members Meeting - RSVP Pls - Jan 13, 2022
RRULE:FREQ=MONTHLY;UNTIL=20220408T000000
DESCRIPTION:<p>Greetings NIA Family,
</p>
<p>Wishing you all season’s greetings, and a happy new year!
</p><p>We will have our 1st meeting of 2022 -  Jan 13th on Zoom. Though this was the month for the in-person meeting, however, based on the ongoing COVID-19 situation – I think it’s best to not take unnecessary risks for everyone’s health & safety. Hopefully, we can do the Feb meeting as an in-person event.
</p><p>Looking forward to seeing you next year!
</p><p>Sumair Abro
</p><br />


LOCATION:Zoom ID: 9018421246
END:VEVENT
END:VCALENDAR