BEGIN:VCALENDAR
VERSION:2.0
BEGIN:VEVENT
URL:https://www.networkinaction.com/index.php/events/viewevent/4449-nia-monthly-members-meeting-zoom?groupid=29 
DTSTART:20211111T150000
DTEND:20211111T163000
SUMMARY:NIA Monthly Members Meeting - Zoom
RRULE:FREQ=MONTHLY;UNTIL=20220408T000000
DESCRIPTION:
LOCATION:Zoom ID: 9018421246
END:VEVENT
END:VCALENDAR