BEGIN:VCALENDAR
VERSION:2.0
BEGIN:VEVENT
URL:https://www.networkinaction.com/index.php/events/viewevent/4442-nia-monthly-members-mandatory-meeting?groupid=29 
DTSTART:20210408T150000
DTEND:20210408T163000
SUMMARY:NIA Monthly Members Mandatory Meeting
RRULE:FREQ=MONTHLY;UNTIL=20220408T000000
DESCRIPTION:
LOCATION:Zoom ID: 9018421246
END:VEVENT
END:VCALENDAR