BEGIN:VCALENDAR
VERSION:2.0
BEGIN:VEVENT
URL:https://www.networkinaction.com/index.php/events/viewevent/4440-april-monthly-meeting?groupid=154 
DTSTART:20210414T150000
DTEND:20210414T163000
SUMMARY:April Monthly meeting
DESCRIPTION:
LOCATION:124 Arundel Ct.  Roseville, CA 95747
END:VEVENT
END:VCALENDAR