BEGIN:VCALENDAR
VERSION:2.0
BEGIN:VEVENT
URL:https://www.networkinaction.com/index.php/events/viewevent/4433-take-the-limits-off-tuesdays-summit 
DTSTART:20210413T190000
DTEND:20210413T200000
SUMMARY:Take the Limits Off Tuesdays Summit
RRULE:FREQ=WEEKLY;UNTIL=20210427T000000
DESCRIPTION:<p>April is going to be 🔥!!! I have a group of phenomenal vision doulas lined up and ready to help you birth your entrepreneurial visions!!! This month is all about business!
</p><p>We are kicking off next week, Tuesday, 4/6, with Roshonda Coleman @ 6pm EST. Roshonda's topic is "Wealth with Ro!" 
</p><p>Join the training live in Beloved's Vision Birthing Room! If you are not apart of the group, click the link and join today <a href="Facebook.com/groups/belovedbirthingroom">Facebook.com/groups/belovedbirthingroom</a>! You must be a member of the group to attend the trainings. 
</p><p>April's Topics:
</p><p>-Roshonda Coleman: Wealth with Ro
</p><p>-Phyllis Smart: Doing Business the Smart Way: Creating a non-profit
</p><p>-Tarea Kennedy: Laying the Foundation for Generational Wealth
</p><p>-Karla Ray: Business Credit 101</p>
LOCATION:facebook.com/groups/visionbirthingroom
END:VEVENT
END:VCALENDAR