BEGIN:VCALENDAR
VERSION:2.0
BEGIN:VEVENT
URL:https://www.networkinaction.com/index.php/events/viewevent/4428-april-meeting?groupid=140 
DTSTART:20210414T150000
DTEND:20210414T163000
SUMMARY:April Meeting
DESCRIPTION:<p>Sugar Land Business Force April Meeting.  Join your fellow SLBF members to build your relationships and grow your business.  
</p>
<p>Looking forward to seeing you there!</p>
LOCATION:Churrascos Sugar Land, 1520 Lake Pointe Pkwy, Ste 500, Sugar Land, TX 77478
END:VEVENT
END:VCALENDAR