BEGIN:VCALENDAR
VERSION:2.0
BEGIN:VEVENT
URL:https://www.networkinaction.com/index.php/events/viewevent/4427-april-meeting?groupid=77 
DTSTART:20210413T150000
DTEND:20210413T163000
SUMMARY:April Meeting
DESCRIPTION:<p>Westchase Business Force April Meeting.  Join your fellow WBF members to build your relationships and grow your business.  </p><p>Looking forward to seeing you there!</p>
LOCATION:Lupe Tortilla, 9313 Katy Freeway, 77024
END:VEVENT
END:VCALENDAR