BEGIN:VCALENDAR
VERSION:2.0
BEGIN:VEVENT
URL:https://www.networkinaction.com/index.php/events/viewevent/4426-april-meeting?groupid=147 
DTSTART:20210408T150000
DTEND:20210408T163000
SUMMARY:April Meeting
DESCRIPTION:Veterans Business Force April Meeting.  Join your fellow members to connect, build relationships, and grow your business.  Looking forward to seeing you there!
LOCATION:Lupe Tortilla, 9313 Katy Freeway, 77024
END:VEVENT
END:VCALENDAR