BEGIN:VCALENDAR
VERSION:2.0
BEGIN:VEVENT
URL:https://www.networkinaction.com/index.php/events/viewevent/4422-virtual-launch-and-learn?groupid=170 
DTSTART:20210408T150000
DTEND:20210408T160000
SUMMARY:Virtual Launch and Learn
DESCRIPTION:<p>We are launching the NIA AF Area and would love for you to join! You will find out how you can increase your networking connections and make them work for you.
</p>
<p>Click here to register: https://www.eventbrite.com/e/american-fork-area-group-launch-and-learn-tickets-144519255985
</p><p>Invite anyone you think that may be interested too!</p>

LOCATION:Online
END:VEVENT
END:VCALENDAR