BEGIN:VCALENDAR
VERSION:2.0
BEGIN:VEVENT
URL:https://www.networkinaction.com/index.php/events/viewevent/4415-april-monthly-meeting?groupid=14 
DTSTART:20210407T153000
DTEND:20210407T170000
SUMMARY:April Monthly Meeting
DESCRIPTION:<p>APRIL Monthly Meeting</p><br /><p>Please join us for our MONTHLY MEETING  APRIL 7TH WEDNESDAY 3:30 TO 5:00 </p><p>We are meeting together in Person! - I am so excited to see everyone! We will social distance, masks to be worn unless seated and tables set up accordingly. </p><p>Please join us and reconnect! </p><br />
LOCATION:Memorial Wine Cellar 7951 Katy Freeway
END:VEVENT
END:VCALENDAR