BEGIN:VCALENDAR
VERSION:2.0
BEGIN:VEVENT
URL:https://www.networkinaction.com/index.php/events/viewevent/4414-june-monthly-meeting?groupid=66 
DTSTART:20210608T160000
DTEND:20210608T173000
SUMMARY:June Monthly Meeting
DESCRIPTION:
LOCATION:Zoom.us, Meeting TD- 713-678-0468
END:VEVENT
END:VCALENDAR