BEGIN:VCALENDAR
VERSION:2.0
BEGIN:VEVENT
URL:https://www.networkinaction.com/index.php/events/viewevent/4411-june-monthly-meeting?groupid=68 
DTSTART:20210610T153000
DTEND:20210610T170000
SUMMARY:June Monthly Meeting
DESCRIPTION:
LOCATION:Zoom.us, Meeting ID 713-678-0468
END:VEVENT
END:VCALENDAR