BEGIN:VCALENDAR
VERSION:2.0
BEGIN:VEVENT
URL:https://www.networkinaction.com/index.php/events/viewevent/4408-ghwcc-happiness-workshop?groupid=66 
DTSTART:20210325T120000
DTEND:20210325T130000
SUMMARY:GHWCC - Happiness Workshop 
DESCRIPTION:<p>Please join GHWCC for a complimentary workshop and explore how to recognize and create happiness in your life.</p><br /><br /><p>You can register via www.ghwcc.org</p>
LOCATION:Zoom
END:VEVENT
END:VCALENDAR