BEGIN:VCALENDAR
VERSION:2.0
BEGIN:VEVENT
URL:https://www.networkinaction.com/index.php/events/viewevent/4405-virtual-wine-tasting?groupid=66 
DTSTART:20210331T180000
DTEND:20210331T190000
SUMMARY:Virtual Wine Tasting
DESCRIPTION:<p>Please join Brenda James and I during our first monthly networking event.  We are excited to have Rhythm and Wine share the tasting experience with you.</p><br /><p>https://www.eventbrite.com/e/virtual-wine-tasting-tickets-146442083213</p>
LOCATION:Use Eventbrite Link in the description.
END:VEVENT
END:VCALENDAR