BEGIN:VCALENDAR
VERSION:2.0
BEGIN:VEVENT
URL:https://www.networkinaction.com/index.php/events/viewevent/4404-virtual-wine-testing?groupid=68 
DTSTART:20210331T180000
DTEND:20210331T190000
SUMMARY:Virtual Wine Testing
DESCRIPTION:<p>Join Brenda James and I during our monthly networking events.  This month we will experience Rhythm and Wine with Juanice Middleton.</p><br /><p>https://www.eventbrite.com/o/katrina-keys-22678224060</p>
LOCATION:Use the Eventbrite link in the description.
END:VEVENT
END:VCALENDAR