BEGIN:VCALENDAR
VERSION:2.0
BEGIN:VEVENT
URL:https://www.networkinaction.com/index.php/events/viewevent/4396-assembling-helpsnackz-for-displace-children?groupid=86 
DTSTART:20210327T090000
DTEND:20210327T120000
SUMMARY:Assembling HelpSnackz for Displace Children
DESCRIPTION:<p>Come join us and help Assemble bags of food (Helpsnackz) for “At Risk”, displaced and homeless children in our community.  Our Helpsnackz bags will start getting delivered the following week to 18 different school districts.Register here: https://homelessliftpartnership.com/event/mar27/ </p>
LOCATION:11034 N 23rd Drive Ste 105 Phoenix, AZ 85029 United States
END:VEVENT
END:VCALENDAR