BEGIN:VCALENDAR
VERSION:2.0
BEGIN:VEVENT
URL:https://www.networkinaction.com/index.php/events/viewevent/4395-nia-st-petersburg-monthly-meeting-in-person-at-carrabba-s-on-tyrone-blvd?groupid=49 
DTSTART:20210415T160000
DTEND:20210415T173000
SUMMARY:NIA - St Petersburg Monthly Meeting (In Person at Carrabba's on Tyrone Blvd)
DESCRIPTION:<p>This is an official meeting. Unlike the mixers, there will be a formal agenda and attendance will be taken. We will meet in the private room in the back of the restaurant.</p>
LOCATION:Carrabba's Italian Grill, 3530 Tyrone Blvd N, St Petersburg 33710
END:VEVENT
END:VCALENDAR