BEGIN:VCALENDAR
VERSION:2.0
BEGIN:VEVENT
URL:https://www.networkinaction.com/index.php/events/viewevent/4390-our-kickoff-meeting?groupid=158 
DTSTART:20210512T153000
DTEND:20210512T170000
SUMMARY:Our Kickoff Meeting
DESCRIPTION:Our May Kickoff meeting will be all of us getting to know each other and starting to build relationships. The goal for this group is to build a strong network of people who understand the power of connection. I am excited to learn more about all of you and welcome you into this incredible organization.
LOCATION:www.zoomwithhps.com
END:VEVENT
END:VCALENDAR